BEGIN:VCALENDAR
VERSION:2.0
PRODID:-//KP Consultants - ECPv6.15.12.2//NONSGML v1.0//EN
CALSCALE:GREGORIAN
METHOD:PUBLISH
X-WR-CALNAME:KP Consultants
X-ORIGINAL-URL:https://kp-consultants.com
X-WR-CALDESC:Events for KP Consultants
REFRESH-INTERVAL;VALUE=DURATION:PT1H
X-Robots-Tag:noindex
X-PUBLISHED-TTL:PT1H
BEGIN:VTIMEZONE
TZID:UTC
BEGIN:STANDARD
TZOFFSETFROM:+0000
TZOFFSETTO:+0000
TZNAME:UTC
DTSTART:20160101T000000
END:STANDARD
END:VTIMEZONE
BEGIN:VEVENT
DTSTART;TZID=UTC:20170608T080000
DTEND;TZID=UTC:20170608T170000
DTSTAMP:20260424T151637
CREATED:20170608T010201Z
LAST-MODIFIED:20170608T010201Z
UID:197-1496908800-1496941200@kp-consultants.com
SUMMARY:test
DESCRIPTION:test event
URL:https://kp-consultants.com/event/test/
END:VEVENT
END:VCALENDAR